BEGIN:VCALENDAR
VERSION:2.0
PRODID:icalendar-ruby
CALSCALE:GREGORIAN
METHOD:PUBLISH
BEGIN:VEVENT
DTSTAMP:20260421T134345Z
UID:35-114179@lifeatctk.org
DTSTART;VALUE=DATE:20260616
DTEND;VALUE=DATE:20260617
CLASS:PUBLIC
CREATED:20260421T044942
DESCRIPTION:Registration Deadline is June 1\, 2026.\n\nProgram Details\nTue
 sday\, June 16 - Wednesday\, June 17\n8:30 - 4:30 p.m.\nfor current 5-8th 
 graders\n\nA 2-day program focuses on service and community building as we
 ll as epic fun\, faith &amp\; friends! Each day will include several hours
  of acts of service\, interactive Bible study\, and fun outings around the
  metro. Each participant is responsible for bringing their lunch each day.
  Drop off and pick up is at Christ the King Lutheran Church.
LAST-MODIFIED:20260421T044942
LOCATION:
SUMMARY:Summer Spark
URL;VALUE=URI:https://www.lifeatctk.org/events/summer-spark/2026-06-16
ATTACH;FILENAME=summerspark.jpg;FMTTYPE=image/jpeg:https://dq5pwpg1q8ru0.cl
 oudfront.net/2026/04/21/09/49/42/0c917fc8-b9e5-4745-b7ba-170da58a1817/summ
 erspark.jpg
END:VEVENT
END:VCALENDAR
